BEGIN:VCALENDAR
PRODID:-Technische Universität Dresden//Vorlesungsverzeichnis//DE
VERSION:2.0
CALSCALE:GREGORIAN
METHOD:PUBLISH
CHARSET:utf8
X-WR-CALNAME: Vorlesungsverzeichnis
TZID:Europe/Berlin
X-LIC-LOCATION:Europe/Berlin
BEGIN:VEVENT
SUMMARY:, Kripke: Naming and necessity
DESCRIPTION:Uwe Scheffler, jede Woche
GEO:51.02865652852924;13.738921736004082
RRULE:FREQ=WEEKLY;BYDAY=MO;INTERVAL=1;UNTIL=20230227T162000
DTSTAMP:20260425T025300
UID:709
STATUS:CONFIRMED
DTSTART:20221003T145000
DTEND:20221003T162000
LOCATION:SE2, 203/U
TRANSP:OPAQUE
END:VEVENT
END:VCALENDAR
