BEGIN:VCALENDAR
PRODID:-Technische Universität Dresden//Vorlesungsverzeichnis//DE
VERSION:2.0
CALSCALE:GREGORIAN
METHOD:PUBLISH
CHARSET:utf8
X-WR-CALNAME: Vorlesungsverzeichnis
TZID:Europe/Berlin
X-LIC-LOCATION:Europe/Berlin
BEGIN:VEVENT
SUMMARY:, Tutorium zur Einführung in die Philosophie des dt. Idealismus und des 19. Jhd von Julien Betzien
DESCRIPTION:Reinhard Hiltscher, jede Woche
GEO:51.02742861074738;13.725906479830465
RRULE:FREQ=WEEKLY;BYDAY=FR;INTERVAL=1;UNTIL=20230224T124000
DTSTAMP:20260425T025300
UID:706
STATUS:CONFIRMED
DTSTART:20221007T111000
DTEND:20221007T124000
LOCATION:TOE, 0317/H
TRANSP:OPAQUE
END:VEVENT
END:VCALENDAR
