BEGIN:VCALENDAR
PRODID:-Technische Universität Dresden//Vorlesungsverzeichnis//DE
VERSION:2.0
CALSCALE:GREGORIAN
METHOD:PUBLISH
CHARSET:utf8
X-WR-CALNAME: Vorlesungsverzeichnis
TZID:Europe/Berlin
X-LIC-LOCATION:Europe/Berlin
BEGIN:VEVENT
SUMMARY:, Krieg und Frieden - Ethics of War
DESCRIPTION:Lisa Hecht, jede Woche
GEO:51.02879404308028;13.729992763926859
RRULE:FREQ=WEEKLY;BYDAY=TU;INTERVAL=1;UNTIL=20230228T105000
DTSTAMP:20260425T025300
UID:670
STATUS:CONFIRMED
DTSTART:20221004T092000
DTEND:20221004T105000
LOCATION:HSZ, E03/U
TRANSP:OPAQUE
END:VEVENT
END:VCALENDAR
