BEGIN:VCALENDAR
PRODID:-Technische Universität Dresden//Vorlesungsverzeichnis//DE
VERSION:2.0
CALSCALE:GREGORIAN
METHOD:PUBLISH
CHARSET:utf8
X-WR-CALNAME: Vorlesungsverzeichnis
TZID:Europe/Berlin
X-LIC-LOCATION:Europe/Berlin
BEGIN:VEVENT
SUMMARY:, Auf wieviel Würde können wir verzichten? – Herausforderungen in Medizin und Pflege. Seminar FD 2 und FD 3
Zusammen mit Dr. Hubertus Stelzer


DESCRIPTION:Markus Tiedemann, keine Angabe
GEO:51.029759256319444;13.73862370384176
RRULE:FREQ=WEEKLY;BYDAY=WE;INTERVAL=1;UNTIL=20230222T105000
DTSTAMP:20260425T025500
UID:669
STATUS:CONFIRMED
DTSTART:20221005T092000
DTEND:20221005T105000
LOCATION:BZW, A255/U
TRANSP:OPAQUE
END:VEVENT
END:VCALENDAR
