BEGIN:VCALENDAR
PRODID:-Technische Universität Dresden//Vorlesungsverzeichnis//DE
VERSION:2.0
CALSCALE:GREGORIAN
METHOD:PUBLISH
CHARSET:utf8
X-WR-CALNAME: Vorlesungsverzeichnis
TZID:Europe/Berlin
X-LIC-LOCATION:Europe/Berlin
BEGIN:VEVENT
SUMMARY:, Staatsexamenskolloquium Ethik/Philosophie
DESCRIPTION:Stefanie Pagel, keine Angabe
RRULE:FREQ=WEEKLY;BYDAY=WE;INTERVAL=1;UNTIL=20230222T124000
DTSTAMP:20260425T025300
UID:657
STATUS:CONFIRMED
DTSTART:20220803T111000
DTEND:20220803T124000
TRANSP:OPAQUE
END:VEVENT
END:VCALENDAR
