BEGIN:VCALENDAR
PRODID:-Technische Universität Dresden//Vorlesungsverzeichnis//DE
VERSION:2.0
CALSCALE:GREGORIAN
METHOD:PUBLISH
CHARSET:utf8
X-WR-CALNAME: Vorlesungsverzeichnis
TZID:Europe/Berlin
X-LIC-LOCATION:Europe/Berlin
BEGIN:VEVENT
SUMMARY:, Schulpraktische Übungen Ethik 
DESCRIPTION:Stefanie Pagel, keine Angabe
GEO:51.02865652852924;13.738921736004082
RRULE:FREQ=WEEKLY;BYDAY=FR;INTERVAL=1;UNTIL=20230224T143000
DTSTAMP:20260425T025300
UID:655
STATUS:CONFIRMED
DTSTART:20221007T130000
DTEND:20221007T143000
LOCATION:SE2, 211/U 
TRANSP:OPAQUE
END:VEVENT
END:VCALENDAR
