BEGIN:VCALENDAR
PRODID:-Technische Universität Dresden//Vorlesungsverzeichnis//DE
VERSION:2.0
CALSCALE:GREGORIAN
METHOD:PUBLISH
CHARSET:utf8
X-WR-CALNAME: Vorlesungsverzeichnis
TZID:Europe/Berlin
X-LIC-LOCATION:Europe/Berlin
BEGIN:VEVENT
SUMMARY:, Einführung in die Didaktik der Philosophie und Ethik 
DESCRIPTION:Markus Tiedemann, jede Woche
GEO:51.03065228586372;13.728354989145338
RRULE:FREQ=WEEKLY;BYDAY=WE;INTERVAL=1;UNTIL=20230222T124000
DTSTAMP:20260425T025300
UID:653
STATUS:CONFIRMED
DTSTART:20221005T111000
DTEND:20221005T124000
LOCATION:POT, 251/H
TRANSP:OPAQUE
END:VEVENT
END:VCALENDAR
