BEGIN:VCALENDAR
PRODID:-Technische Universität Dresden//Vorlesungsverzeichnis//DE
VERSION:2.0
CALSCALE:GREGORIAN
METHOD:PUBLISH
CHARSET:utf8
X-WR-CALNAME: Vorlesungsverzeichnis
TZID:Europe/Berlin
X-LIC-LOCATION:Europe/Berlin
BEGIN:VEVENT
SUMMARY:, Theatrales Philosophieren 
Zusammen mit Marie Hahn un den Theaterpädagoginnen des Staatsschauspiels Dresden
DESCRIPTION:Markus Tiedemann, keine Angabe
GEO:51.029759256319444;13.73862370384176
RRULE:FREQ=WEEKLY;BYDAY=TU;INTERVAL=1;UNTIL=20230228T162000
DTSTAMP:20260425T025300
UID:649
STATUS:CONFIRMED
DTSTART:20221108T145000
DTEND:20221108T162000
LOCATION:BZW, A255/U
TRANSP:OPAQUE
END:VEVENT
END:VCALENDAR
