BEGIN:VCALENDAR
PRODID:-Technische Universität Dresden//Vorlesungsverzeichnis//DE
VERSION:2.0
CALSCALE:GREGORIAN
METHOD:PUBLISH
CHARSET:utf8
X-WR-CALNAME: Vorlesungsverzeichnis
TZID:Europe/Berlin
X-LIC-LOCATION:Europe/Berlin
BEGIN:VEVENT
SUMMARY:, Hegel. Wissenschaft der Logik V
DESCRIPTION:Reinhard Hiltscher, jede Woche
GEO:51.029759256319444;13.73862370384176
RRULE:FREQ=WEEKLY;BYDAY=FR;INTERVAL=1;UNTIL=20230224T105000
DTSTAMP:20260425T025300
UID:643
STATUS:CONFIRMED
DTSTART:20221007T092000
DTEND:20221007T105000
LOCATION:BZW, A418/U
TRANSP:OPAQUE
END:VEVENT
END:VCALENDAR
