BEGIN:VCALENDAR
PRODID:-Technische Universität Dresden//Vorlesungsverzeichnis//DE
VERSION:2.0
CALSCALE:GREGORIAN
METHOD:PUBLISH
CHARSET:utf8
X-WR-CALNAME: Vorlesungsverzeichnis
TZID:Europe/Berlin
X-LIC-LOCATION:Europe/Berlin
BEGIN:VEVENT
SUMMARY:, Begleitendes Tutorium zur Vorlesung "Einführung in die Philosophie des deutschen Idealismus und des 19. Jahrhunderts"
DESCRIPTION:Reinhard Hiltscher, jede Woche
RRULE:FREQ=WEEKLY;BYDAY=TH;INTERVAL=1;UNTIL=20210225T143000
DTSTAMP:20260423T143200
UID:447
STATUS:CONFIRMED
DTSTART:20201008T130000
DTEND:20201008T143000
TRANSP:OPAQUE
END:VEVENT
END:VCALENDAR
