BEGIN:VCALENDAR
PRODID:-Technische Universität Dresden//Vorlesungsverzeichnis//DE
VERSION:2.0
CALSCALE:GREGORIAN
METHOD:PUBLISH
CHARSET:utf8
X-WR-CALNAME: Vorlesungsverzeichnis
TZID:Europe/Berlin
X-LIC-LOCATION:Europe/Berlin
BEGIN:VEVENT
SUMMARY:, Politik der
Gewissheit: Zur Idee einer politischen Philosophie der Angst
DESCRIPTION:Werkstatt Philosophie, jede Woche
GEO:51.02879404308028;13.729992763926859
RRULE:FREQ=WEEKLY;BYDAY=TH;INTERVAL=1;UNTIL=20200227T200000
DTSTAMP:20260422T114800
UID:376
STATUS:CONFIRMED
DTSTART:20191003T183000
DTEND:20191003T200000
LOCATION:HSZ, E05
TRANSP:OPAQUE
END:VEVENT
END:VCALENDAR
