BEGIN:VCALENDAR
PRODID:-Technische Universität Dresden//Vorlesungsverzeichnis//DE
VERSION:2.0
CALSCALE:GREGORIAN
METHOD:PUBLISH
CHARSET:utf8
X-WR-CALNAME: Vorlesungsverzeichnis
TZID:Europe/Berlin
X-LIC-LOCATION:Europe/Berlin
BEGIN:VEVENT
SUMMARY:, Einführung in die Logik -- Schieber
DESCRIPTION:Uwe Scheffler, jede Woche
RRULE:FREQ=WEEKLY;BYDAY=MO;INTERVAL=1;UNTIL=20200224T181000
DTSTAMP:20260422T071200
UID:311
STATUS:CONFIRMED
DTSTART:20191007T164000
DTEND:20191007T181000
TRANSP:OPAQUE
END:VEVENT
END:VCALENDAR
