BEGIN:VCALENDAR
PRODID:-Technische Universität Dresden//Vorlesungsverzeichnis//DE
VERSION:2.0
CALSCALE:GREGORIAN
METHOD:PUBLISH
CHARSET:utf8
X-WR-CALNAME: Vorlesungsverzeichnis
TZID:Europe/Berlin
X-LIC-LOCATION:Europe/Berlin
BEGIN:VEVENT
SUMMARY:, Einführung in die Logik -- Gasch
DESCRIPTION:Uwe Scheffler, jede Woche
GEO:51.029759256319444;13.73862370384176
RRULE:FREQ=WEEKLY;BYDAY=WE;INTERVAL=1;UNTIL=20200226T181000
DTSTAMP:20260422T071200
UID:309
STATUS:CONFIRMED
DTSTART:20191002T164000
DTEND:20191002T181000
LOCATION:BZW, B 101U
TRANSP:OPAQUE
END:VEVENT
END:VCALENDAR
