BEGIN:VCALENDAR
PRODID:-Technische Universität Dresden//Vorlesungsverzeichnis//DE
VERSION:2.0
CALSCALE:GREGORIAN
METHOD:PUBLISH
CHARSET:utf8
X-WR-CALNAME: Vorlesungsverzeichnis
TZID:Europe/Berlin
X-LIC-LOCATION:Europe/Berlin
BEGIN:VEVENT
SUMMARY:, Einführung in die Logik -- Fichtl
DESCRIPTION:Uwe Scheffler, jede Woche
GEO:51.028914999287146;13.73381154691886
RRULE:FREQ=WEEKLY;BYDAY=TU;INTERVAL=1;UNTIL=20200225T143000
DTSTAMP:20260422T114700
UID:308
STATUS:CONFIRMED
DTSTART:20191008T130000
DTEND:20191008T143000
LOCATION:WIL, A221/U
TRANSP:OPAQUE
END:VEVENT
END:VCALENDAR
