BEGIN:VCALENDAR
PRODID:-Technische Universität Dresden//Vorlesungsverzeichnis//DE
VERSION:2.0
CALSCALE:GREGORIAN
METHOD:PUBLISH
CHARSET:utf8
X-WR-CALNAME: Vorlesungsverzeichnis
TZID:Europe/Berlin
X-LIC-LOCATION:Europe/Berlin
BEGIN:VEVENT
SUMMARY:, Wie man mit Fundamentalisten diskutiert
DESCRIPTION:Uwe Scheffler, jede Woche
GEO:51.02879404308028;13.729992763926859
RRULE:FREQ=WEEKLY;BYDAY=TU;INTERVAL=1;UNTIL=20200225T124000
DTSTAMP:20260422T071200
UID:303
STATUS:CONFIRMED
DTSTART:20191008T111000
DTEND:20191008T124000
LOCATION:HSZ, 401/U
TRANSP:OPAQUE
END:VEVENT
END:VCALENDAR
