BEGIN:VCALENDAR
PRODID:-Technische Universität Dresden//Vorlesungsverzeichnis//DE
VERSION:2.0
CALSCALE:GREGORIAN
METHOD:PUBLISH
CHARSET:utf8
X-WR-CALNAME: Vorlesungsverzeichnis
TZID:Europe/Berlin
X-LIC-LOCATION:Europe/Berlin
BEGIN:VEVENT
SUMMARY:, Einführung in die Logik
DESCRIPTION:Uwe Scheffler, jede Woche
GEO:51.03051911690744;13.7531818979678
RRULE:FREQ=WEEKLY;BYDAY=TU;INTERVAL=1;UNTIL=20200225T162000
DTSTAMP:20260422T114800
UID:302
STATUS:CONFIRMED
DTSTART:20191008T145000
DTEND:20191008T162000
LOCATION:ABS, E08/H
TRANSP:OPAQUE
END:VEVENT
END:VCALENDAR
