BEGIN:VCALENDAR
PRODID:-Technische Universität Dresden//Vorlesungsverzeichnis//DE
VERSION:2.0
CALSCALE:GREGORIAN
METHOD:PUBLISH
CHARSET:utf8
X-WR-CALNAME: Vorlesungsverzeichnis
TZID:Europe/Berlin
X-LIC-LOCATION:Europe/Berlin
BEGIN:VEVENT
SUMMARY:, Einführung in die Logik
DESCRIPTION:Uwe Scheffler, jede Woche
GEO:51.029693817122855;13.740571492733569
RRULE:FREQ=WEEKLY;BYDAY=WE;INTERVAL=1;UNTIL=20200226T162000
DTSTAMP:20260422T114700
UID:301
STATUS:CONFIRMED
DTSTART:20191002T145000
DTEND:20191002T162000
LOCATION:ASB, 120
TRANSP:OPAQUE
END:VEVENT
END:VCALENDAR
