BEGIN:VCALENDAR
PRODID:-Technische Universität Dresden//Vorlesungsverzeichnis//DE
VERSION:2.0
CALSCALE:GREGORIAN
METHOD:PUBLISH
CHARSET:utf8
X-WR-CALNAME: Vorlesungsverzeichnis
TZID:Europe/Berlin
X-LIC-LOCATION:Europe/Berlin
BEGIN:VEVENT
SUMMARY:, Fichte. Über den Begriff der Wissenschaftslehre
DESCRIPTION:Reinhard Hiltscher, jede Woche
GEO:51.02819454165706;13.731917049097827
RRULE:FREQ=WEEKLY;BYDAY=FR;INTERVAL=1;UNTIL=20200228T105000
DTSTAMP:20260422T071200
UID:279
STATUS:CONFIRMED
DTSTART:20191004T092000
DTEND:20191004T105000
LOCATION:GER, 38/H
TRANSP:OPAQUE
END:VEVENT
END:VCALENDAR
