BEGIN:VCALENDAR
PRODID:-Technische Universität Dresden//Vorlesungsverzeichnis//DE
VERSION:2.0
CALSCALE:GREGORIAN
METHOD:PUBLISH
CHARSET:utf8
X-WR-CALNAME: Vorlesungsverzeichnis
TZID:Europe/Berlin
X-LIC-LOCATION:Europe/Berlin
BEGIN:VEVENT
SUMMARY:, Kants Teleologiebegriff
DESCRIPTION:Reinhard Hiltscher, jede Woche
GEO:51.02819454165706;13.731917049097827
RRULE:FREQ=WEEKLY;BYDAY=TU;INTERVAL=1;UNTIL=20200225T124000
DTSTAMP:20260422T071200
UID:278
STATUS:CONFIRMED
DTSTART:20191008T111000
DTEND:20191008T124000
LOCATION:GER, 52/U
TRANSP:OPAQUE
END:VEVENT
END:VCALENDAR
