BEGIN:VCALENDAR
PRODID:-Technische Universität Dresden//Vorlesungsverzeichnis//DE
VERSION:2.0
CALSCALE:GREGORIAN
METHOD:PUBLISH
CHARSET:utf8
X-WR-CALNAME: Vorlesungsverzeichnis
TZID:Europe/Berlin
X-LIC-LOCATION:Europe/Berlin
BEGIN:VEVENT
SUMMARY:, Aristoteles. "De anima"
DESCRIPTION:Reinhard Hiltscher, jede Woche
GEO:51.029759256319444;13.73862370384176
RRULE:FREQ=WEEKLY;BYDAY=MO;INTERVAL=1;UNTIL=20200224T124000
DTSTAMP:20260422T114700
UID:276
STATUS:CONFIRMED
DTSTART:20191007T111000
DTEND:20191007T124000
LOCATION:BZW, A253/U
TRANSP:OPAQUE
END:VEVENT
END:VCALENDAR
