BEGIN:VCALENDAR
PRODID:-Technische Universität Dresden//Vorlesungsverzeichnis//DE
VERSION:2.0
CALSCALE:GREGORIAN
METHOD:PUBLISH
CHARSET:utf8
X-WR-CALNAME: Vorlesungsverzeichnis
TZID:Europe/Berlin
X-LIC-LOCATION:Europe/Berlin
BEGIN:VEVENT
SUMMARY:, Identität - Philosophische Probleme der objektualen und personalen Individuation
DESCRIPTION:Norbert Engemaier, jede Woche
GEO:51.029759256319444;13.73862370384176
RRULE:FREQ=WEEKLY;BYDAY=FR;INTERVAL=1;UNTIL=20200228T124000
DTSTAMP:20260422T114700
UID:273
STATUS:CONFIRMED
DTSTART:20191004T111000
DTEND:20191004T124000
LOCATION:BZW, A152
TRANSP:OPAQUE
END:VEVENT
END:VCALENDAR
