BEGIN:VCALENDAR
PRODID:-Technische Universität Dresden//Vorlesungsverzeichnis//DE
VERSION:2.0
CALSCALE:GREGORIAN
METHOD:PUBLISH
CHARSET:utf8
X-WR-CALNAME: Vorlesungsverzeichnis
TZID:Europe/Berlin
X-LIC-LOCATION:Europe/Berlin
BEGIN:VEVENT
SUMMARY:, Fake News, Verschwörungstheorien und Postfaktizität 
Eine Herausforderung für den Philosophie- und Ethikunterricht
DESCRIPTION:Markus Tiedemann, jede Woche
GEO:51.029759256319444;13.73862370384176
RRULE:FREQ=WEEKLY;BYDAY=WE;INTERVAL=1;UNTIL=20200226T105000
DTSTAMP:20260422T114700
UID:260
STATUS:CONFIRMED
DTSTART:20191002T092000
DTEND:20191002T105000
LOCATION:BZW, A153/U
TRANSP:OPAQUE
END:VEVENT
END:VCALENDAR
