BEGIN:VCALENDAR
PRODID:-Technische Universität Dresden//Vorlesungsverzeichnis//DE
VERSION:2.0
CALSCALE:GREGORIAN
METHOD:PUBLISH
CHARSET:utf8
X-WR-CALNAME: Vorlesungsverzeichnis
TZID:Europe/Berlin
X-LIC-LOCATION:Europe/Berlin
BEGIN:VEVENT
SUMMARY:, Gedänkstätte Buchenwalt als Außerschulicher Lernor des Philosophie- und Ethikunterrichts
(2 verpflichtende Exkursionstage)
DESCRIPTION:Markus Tiedemann, jede Woche
GEO:51.029759256319444;13.73862370384176
RRULE:FREQ=WEEKLY;BYDAY=WE;INTERVAL=1;UNTIL=20200226T090000
DTSTAMP:20260422T114800
UID:259
STATUS:CONFIRMED
DTSTART:20191002T073000
DTEND:20191002T090000
LOCATION:BZW, A251/U
TRANSP:OPAQUE
END:VEVENT
END:VCALENDAR
