BEGIN:VCALENDAR
PRODID:-Technische Universität Dresden//Vorlesungsverzeichnis//DE
VERSION:2.0
CALSCALE:GREGORIAN
METHOD:PUBLISH
CHARSET:utf8
X-WR-CALNAME: Vorlesungsverzeichnis
TZID:Europe/Berlin
X-LIC-LOCATION:Europe/Berlin
BEGIN:VEVENT
SUMMARY:, Einführung in die Didaktik der Philosophie
DESCRIPTION:Markus Tiedemann, jede Woche
GEO:51.02879404308028;13.729992763926859
RRULE:FREQ=WEEKLY;BYDAY=WE;INTERVAL=1;UNTIL=20200226T124000
DTSTAMP:20260422T114500
UID:258
STATUS:CONFIRMED
DTSTART:20191002T111000
DTEND:20191002T124000
LOCATION:HSZ, 401/H
TRANSP:OPAQUE
END:VEVENT
END:VCALENDAR
