BEGIN:VCALENDAR
PRODID:-Technische Universität Dresden//Vorlesungsverzeichnis//DE
VERSION:2.0
CALSCALE:GREGORIAN
METHOD:PUBLISH
CHARSET:utf8
X-WR-CALNAME: Vorlesungsverzeichnis
TZID:Europe/Berlin
X-LIC-LOCATION:Europe/Berlin
BEGIN:VEVENT
SUMMARY:, Jürgen Habermas: Diskursethik
DESCRIPTION:Stefanie Pagel, jede Woche
GEO:51.02865652852924;13.738921736004082
RRULE:FREQ=WEEKLY;BYDAY=TU;INTERVAL=1;UNTIL=20200225T124000
DTSTAMP:20260422T114800
UID:256
STATUS:CONFIRMED
DTSTART:20191008T111000
DTEND:20191008T124000
LOCATION:SE2, 103/U
TRANSP:OPAQUE
END:VEVENT
END:VCALENDAR
