BEGIN:VCALENDAR
PRODID:-Technische Universität Dresden//Vorlesungsverzeichnis//DE
VERSION:2.0
CALSCALE:GREGORIAN
METHOD:PUBLISH
CHARSET:utf8
X-WR-CALNAME: Vorlesungsverzeichnis
TZID:Europe/Berlin
X-LIC-LOCATION:Europe/Berlin
BEGIN:VEVENT
SUMMARY:, Blockpraktikum B
DESCRIPTION:Stefanie Pagel, keine Angabe
GEO:51.03051911690744;13.7531818979678
RRULE:FREQ=WEEKLY;BYDAY=FR;INTERVAL=1;UNTIL=20200228T143000
DTSTAMP:20260422T114800
UID:255
STATUS:CONFIRMED
DTSTART:20191004T092000
DTEND:20191004T143000
LOCATION:ABS, 216/U
TRANSP:OPAQUE
END:VEVENT
END:VCALENDAR
