BEGIN:VCALENDAR
PRODID:-Technische Universität Dresden//Vorlesungsverzeichnis//DE
VERSION:2.0
CALSCALE:GREGORIAN
METHOD:PUBLISH
CHARSET:utf8
X-WR-CALNAME: Vorlesungsverzeichnis
TZID:Europe/Berlin
X-LIC-LOCATION:Europe/Berlin
BEGIN:VEVENT
SUMMARY:, Schulpraktische Übungen SPÜ
DESCRIPTION:Stefanie Pagel, keine Angabe
GEO:51.02865652852924;13.738921736004082
RRULE:FREQ=WEEKLY;BYDAY=FR;INTERVAL=1;UNTIL=20200228T105000
DTSTAMP:20260422T071200
UID:254
STATUS:CONFIRMED
DTSTART:20191004T092000
DTEND:20191004T105000
LOCATION:SE2, 201/U
TRANSP:OPAQUE
END:VEVENT
END:VCALENDAR
